BEGIN:VCALENDAR
VERSION:2.0
PRODID:-//Chinmaya Amrit Mahotsav - ECPv6.15.15//NONSGML v1.0//EN
CALSCALE:GREGORIAN
METHOD:PUBLISH
X-WR-CALNAME:Chinmaya Amrit Mahotsav
X-ORIGINAL-URL:https://cmw.chinmaya75.org
X-WR-CALDESC:Events for Chinmaya Amrit Mahotsav
REFRESH-INTERVAL;VALUE=DURATION:PT1H
X-Robots-Tag:noindex
X-PUBLISHED-TTL:PT1H
BEGIN:VTIMEZONE
TZID:America/New_York
BEGIN:DAYLIGHT
TZOFFSETFROM:-0500
TZOFFSETTO:-0400
TZNAME:EDT
DTSTART:20250309T070000
END:DAYLIGHT
BEGIN:STANDARD
TZOFFSETFROM:-0400
TZOFFSETTO:-0500
TZNAME:EST
DTSTART:20251102T060000
END:STANDARD
BEGIN:DAYLIGHT
TZOFFSETFROM:-0500
TZOFFSETTO:-0400
TZNAME:EDT
DTSTART:20260308T070000
END:DAYLIGHT
BEGIN:STANDARD
TZOFFSETFROM:-0400
TZOFFSETTO:-0500
TZNAME:EST
DTSTART:20261101T060000
END:STANDARD
BEGIN:DAYLIGHT
TZOFFSETFROM:-0500
TZOFFSETTO:-0400
TZNAME:EDT
DTSTART:20270314T070000
END:DAYLIGHT
BEGIN:STANDARD
TZOFFSETFROM:-0400
TZOFFSETTO:-0500
TZNAME:EST
DTSTART:20271107T060000
END:STANDARD
END:VTIMEZONE
BEGIN:VEVENT
DTSTART;TZID=America/New_York:20260419T110000
DTEND;TZID=America/New_York:20260419T120000
DTSTAMP:20260421T052849
CREATED:20260128T225646Z
LAST-MODIFIED:20260212T155940Z
UID:10000064-1776596400-1776600000@cmw.chinmaya75.org
SUMMARY:Hanuman Chalisa Pooja - CM Vancouver
DESCRIPTION:
URL:https://cmw.chinmaya75.org/event/hanuman-chalisa-pooja-cm-vancouver-2/
LOCATION:Burnaby Hindu Temple\, 5420 Marine Dr.\, Burnaby\, BC
CATEGORIES:Hanuman Chalisa Havan
ATTACH;FMTTYPE=image/jpeg:https://cmw.chinmaya75.org/wp-content/uploads/2026/01/Hanuman-Pooja-Poster-scaled.jpg
ORGANIZER;CN="Chinmaya Mission Vancouver":MAILTO:info@chinmayavancouver.org
END:VEVENT
BEGIN:VEVENT
DTSTART;TZID=America/New_York:20260411T093000
DTEND;TZID=America/New_York:20260411T133000
DTSTAMP:20260421T052849
CREATED:20260323T003927Z
LAST-MODIFIED:20260323T004127Z
UID:10000094-1775899800-1775914200@cmw.chinmaya75.org
SUMMARY:Hanuman Chalisa Havan - CM San Antonio
DESCRIPTION:All are welcome with love to the divine and uplifting Hanuman Chalisa Havan organized by Chinmaya Mission San Antonio at Chinmaya Sharadalaya. \n\n\n\nScan the QR Code or Click Here to become a Yajaman and reserve your spot now. Hurry! Limited spots available.
URL:https://cmw.chinmaya75.org/event/hanuman-chalisa-havan-cm-san-antonio/
LOCATION:Chinmaya Sharadalaya\, 9086 Vista Verde\, San Antonio\, Texas\, 78255
CATEGORIES:Hanuman Chalisa Havan
ATTACH;FMTTYPE=image/jpeg:https://cmw.chinmaya75.org/wp-content/uploads/2026/03/WhatsApp-Image-2026-03-22-at-16.38.55.jpeg
ORGANIZER;CN="Chinmaya Mission San Antonio":MAILTO:info@chinmayasa.org
END:VEVENT
BEGIN:VEVENT
DTSTART;TZID=America/New_York:20260411T090000
DTEND;TZID=America/New_York:20260411T140000
DTSTAMP:20260421T052849
CREATED:20251225T033922Z
LAST-MODIFIED:20260220T213430Z
UID:10000030-1775898000-1775916000@cmw.chinmaya75.org
SUMMARY:Sri Hanuman Chalisa Havan - CM Orlando & Kissimee
DESCRIPTION:The year 2026 will mark 75 years of Chinmaya Mission’s divine service. To honor this historic milestone\, please join us for the Sri Hanuman Chalisa Havan\, an offering of devotion and strength\, a collective spiritual invocation seeking inner courage\, purity\, and divine grace. The sacred chanting of the Hanuman Chalisa represents the purification of the mind and embodies unwavering faith in the Divine. The Havan intensifies the sanctity of the chants\, transforming the experience into a purifying act of devotion and offering\, and creating a powerful atmosphere of positive energy. \n\n\n\nThe Sri Hanuman Chalisa Havan is performed to gain strength\, courage\, spiritual power\, abundance\, knowledge\, a harmonious family life\, protection from adversities\, the removal of obstacles\, and success in all endeavors. It invokes divine blessings for overall well-being and prosperity. \n\n\n\nJoin fellow devotees in a transformative experience that transcends time. Unite in reverence and invoke the spirit of dynamic service and fearless faith embodied by Shri Hanuman. Our collective prayers and participation will not only mark this historic occasion but also strengthen our community bonds and spiritual resolve. \n\n\n\nRegistration is required. Sign up to volunteer or chant at https://cmoevents.org/
URL:https://cmw.chinmaya75.org/event/sri-hanuman-chalisa-havan/
LOCATION:Chinmaya Kaivalya\, 1221 Chinmaya Way\, Casselberry\, FL\, 32814\, United States
CATEGORIES:Hanuman Chalisa Havan
ATTACH;FMTTYPE=image/png:https://cmw.chinmaya75.org/wp-content/uploads/2025/12/HanumanHavan.png
ORGANIZER;CN="Chinmaya Mission Orlando":MAILTO:orlando@chinmayamission.org
END:VEVENT
BEGIN:VEVENT
DTSTART;TZID=America/New_York:20260411T080000
DTEND;TZID=America/New_York:20260411T123000
DTSTAMP:20260421T052849
CREATED:20260202T100230Z
LAST-MODIFIED:20260202T100232Z
UID:10000071-1775894400-1775910600@cmw.chinmaya75.org
SUMMARY:Shri Hanuman Chalisa Samashti Havan - CM Bakersfield
DESCRIPTION:We welcome all to participate in this collective offering to invoke grace and blessings of Lord Hanuman and Pujya Gurudev on all. \n\n\n\nSponsorship opportunities are available. CLICK HERE.
URL:https://cmw.chinmaya75.org/event/shri-hanuman-chalisa-samashti-havan-cm-bakersfield/
LOCATION:Chinmaya Gokul\, 1723 Country Breeze Pl\, Bakersfield\, CA\, 93312\, United States
CATEGORIES:Hanuman Chalisa Havan
ATTACH;FMTTYPE=image/jpeg:https://cmw.chinmaya75.org/wp-content/uploads/2026/02/619358207_1286530440176801_6763406380458918811_n.jpg
END:VEVENT
BEGIN:VEVENT
DTSTART;TZID=America/New_York:20260404T090000
DTEND;TZID=America/New_York:20260404T160000
DTSTAMP:20260421T052849
CREATED:20260303T142226Z
LAST-MODIFIED:20260303T142229Z
UID:10000087-1775293200-1775318400@cmw.chinmaya75.org
SUMMARY:Hanuman Samashti Havan and Puja - CM Austin
DESCRIPTION:All are welcome with love to experience the radiating bliss and power of Hanuman Chalisa with a vibrant community of spiritual seekers. Annadanam and Puja/Havan Sponsorship Opportunities are available. Check the QR codes on the flyer.
URL:https://cmw.chinmaya75.org/event/hanuman-samashti-havan-and-puja-cm-austin/
LOCATION:Chinmaya Sundaram\, 12825 Burnet Road\, Austin\, TX\, 78727\, United States
CATEGORIES:Hanuman Chalisa Havan
ATTACH;FMTTYPE=image/jpeg:https://cmw.chinmaya75.org/wp-content/uploads/2026/03/Hanuman-Samadhi-Havan.jpg
ORGANIZER;CN="Chinmaya Mission Austin":MAILTO:info@chinmayaaustin.org
END:VEVENT
BEGIN:VEVENT
DTSTART;TZID=America/New_York:20260404T070000
DTEND;TZID=America/New_York:20260404T120000
DTSTAMP:20260421T052849
CREATED:20251213T185231Z
LAST-MODIFIED:20251220T034402Z
UID:10000015-1775286000-1775304000@cmw.chinmaya75.org
SUMMARY:Samashti Hanuman Chalisa Havan
DESCRIPTION:Hari Om! \n\n\n\n🙏🔥 Shri Hanuman Bhaktas\, the moment has arrived… \n\n\n\nAs we step into 2026 — the 75th year of Chinmaya Mission Global — we gather in honour of Hanuman Jayanti 2026 for a grand\, joy-filled\, vibration-raising🔥SAMASHTI HANUMAN CHALISA HAVAN!🔥 \n\n\n\n🐒 Let your devotion roar like Hanuman Ji’s name as we chant\, offer and uplift the atmosphere with pure bhakti. \n\n\n\n🕉️ On Saturday 4th April\, 2026\, devotees from across Trinidad and Tobago will unite around the sacred Agni — chanting the Hanuman Chalisa nine times\, offering ahutis for each of the 40 chaupais\, and invoking Bhagavan Hanuman ji’s blessings with full heart and spirit. \n\n\n\n✨ 216 Havan Kunds✨ 400+ Bhaktas✨ 360 Havan Offerings✨ Sri Hanuman Puja✨ 21 Hanuman Chalisa Chantings & Satsang with Swami Prakashananda ji✨ The Chinmaya Experience \n\n\n\nAll Bhaktas are lovingly invited to be part of this extraordinary morning of strength\, joy and divine connection as we honour our beloved Hanumanji. \n\n\n\n🔴 By Registration ONLY – Register Today via Ashram Office or https://tinyurl.com/cmtthanumanhavan2026 \n\n\n\n📍 Chinmaya Vidyalaya Grounds\, McBean\, Couva📆 Saturday 4th April\, 2026🕖 7 am to 12 noon💌 Contribution: $216 per Havan Kund (2 persons per kund)📞 679-3652 for more info📩 chinmayamissiontnt@gmail.com \n\n\n\n🚩 Jai Hanuman! Jai Gurudev!
URL:https://cmw.chinmaya75.org/event/samashti-hanuman-chalisa-havan/
LOCATION:Chinmaya Vidyalaya Sant Tulsidas Campus Grounds\, 2 Swami Chinmayananda Dr\, McBean\, Couva\, Trinidad & Tobago
CATEGORIES:Hanuman Chalisa Havan
ATTACH;FMTTYPE=image/jpeg:https://cmw.chinmaya75.org/wp-content/uploads/2025/12/PHOTO-2025-11-28-14-25-44.jpg
ORGANIZER;CN="Chinmaya Mission Trinidad & Tobago":MAILTO:chinmayamissiontnt@gmail.com
END:VEVENT
BEGIN:VEVENT
DTSTART;TZID=America/New_York:20260329T093000
DTEND;TZID=America/New_York:20260329T123000
DTSTAMP:20260421T052849
CREATED:20260223T025240Z
LAST-MODIFIED:20260223T025242Z
UID:10000086-1774776600-1774787400@cmw.chinmaya75.org
SUMMARY:Hanuman Raksha Homam - CM Albany
DESCRIPTION:Please join us with friends and family as we invoke Hanuman ji’s blessings and celebrate Chinmaya Amrit Mahotsav. \n\n\n\nA rare opportunity to become Yajaman in this Mahayagna! For information and sponsorship opportunities please contact chinmaya.albany@gmail.com or (518)-618-9142.
URL:https://cmw.chinmaya75.org/event/hanuman-raksha-homam-cm-albany/
LOCATION:Albany Hindu Temple\, 450 Albany Shaker Rd.\, Albany\, New York
CATEGORIES:Hanuman Chalisa Havan,Other
ATTACH;FMTTYPE=image/png:https://cmw.chinmaya75.org/wp-content/uploads/2026/02/Hanuman-Raksha.png
ORGANIZER;CN="Chinmaya Mission Albany":MAILTO:chinmaya.albany@gmail.com
END:VEVENT
BEGIN:VEVENT
DTSTART;TZID=America/New_York:20260329T060000
DTEND;TZID=America/New_York:20260329T170000
DTSTAMP:20260421T052849
CREATED:20260221T025449Z
LAST-MODIFIED:20260227T171637Z
UID:10000085-1774764000-1774803600@cmw.chinmaya75.org
SUMMARY:Murti Sthapana and Shri Hanuman Chalisa Havan
DESCRIPTION:Registration is required. Scan the QR code in the flyer to register for the Havan. \n\n\n\n\n\nOn March 29 th starting at 6 am we will be doing the Murti Sthapana of Radha Krishna ji\, Ganesha ji\, Hanuman ji and Shiva lingam. This is the first part of the program where the shrine is dedicated for the mission. After a short break we will start the chanting of Hanuman Chalisa. We will have multiple havans set up and are inviting our members and all hindu organizations/temples across the valley to participate. We are also planning on inviting various dance and music schools to perform on this occasion. Swami Ishwarananda ji will be presiding over the entire event.
URL:https://cmw.chinmaya75.org/event/murti-sthapana-and-shri-hanuman-chalisa-havan/
LOCATION:Chinmaya Goloka\, 325 South Eldorado\, Mesa\, AZ\, 85202\, United States
CATEGORIES:Hanuman Chalisa Havan,Other
ATTACH;FMTTYPE=image/jpeg:https://cmw.chinmaya75.org/wp-content/uploads/2026/02/murthy2-7902a7128fd47dc0335a8be405458004.jpeg
ORGANIZER;CN="Chinmaya Mission Phoenix":MAILTO:chp@chinmayaphoenix.org
END:VEVENT
BEGIN:VEVENT
DTSTART;TZID=America/New_York:20260328T090000
DTEND;TZID=America/New_York:20260328T140000
DTSTAMP:20260421T052849
CREATED:20260129T150046Z
LAST-MODIFIED:20260129T150151Z
UID:10000065-1774688400-1774706400@cmw.chinmaya75.org
SUMMARY:Samashti Hanuman Chalisa Havan - Chinmaya Mangalam
DESCRIPTION:Hari 🕉️ \n\n\n\n*Hanuman Chalisa Havan 🔥**Saturday\, March 28th 📅 at Chinmaya Mangalam*108 Hanuman Chalisa Chanting Havan offerings 🔥. \n\n\n\nWe’re looking for 75 Havan yajamans 🙏(Limited number of Havan yajaman slots are available-first come\, first served basis to perform the Havan.) \n\n\n\n*🗓️ Registration deadline – Mar 15\, 2026* \n\n\n\n💳 *Registration fees:*– ✨ Early-bird special for yajamans through Jan is $251– It will increase to $351 in February and then to $501 in March– Mahaprasad and other “General attendee” sponsorships are available! \n\n\n\nRegister at : events.cmdfw.org
URL:https://cmw.chinmaya75.org/event/samashti-hanuman-chalisa-havan-chinmaya-mangalam/
LOCATION:Chinmaya Mangalam\, 10470 FM744\, Barry\, TX\, 75102\, United States
CATEGORIES:Hanuman Chalisa Havan
ATTACH;FMTTYPE=image/jpeg:https://cmw.chinmaya75.org/wp-content/uploads/2026/01/BE697A39-4101-46A6-8D56-426958428448.jpeg
ORGANIZER;CN="Chinmaya Mission DFW":MAILTO:dallas@chinmayamission.org
END:VEVENT
BEGIN:VEVENT
DTSTART;TZID=America/New_York:20260328T090000
DTEND;TZID=America/New_York:20260328T123000
DTSTAMP:20260421T052849
CREATED:20260107T212624Z
LAST-MODIFIED:20260319T234823Z
UID:10000036-1774688400-1774701000@cmw.chinmaya75.org
SUMMARY:Hanuman Chalisa Havan - CM Beaumont
DESCRIPTION:
URL:https://cmw.chinmaya75.org/event/hanuman-chalisa-havan-cm-beaumont/
LOCATION:Chinmaya Shripati\, 1580 S Major Dr\, Beaumont\, TX\, 78705\, United States
CATEGORIES:Hanuman Chalisa Havan
ATTACH;FMTTYPE=image/jpeg:https://cmw.chinmaya75.org/wp-content/uploads/2026/01/AMritMahotsavBeaumont-633fd47f30ba30b2f80bad12435f9fde.jpg
ORGANIZER;CN="Chinmaya Mission Beaumont":MAILTO:chinmayamission.beaumont@gmail.com
END:VEVENT
BEGIN:VEVENT
DTSTART;TZID=America/New_York:20260314T080000
DTEND;TZID=America/New_York:20260314T170000
DTSTAMP:20260421T052849
CREATED:20260129T164138Z
LAST-MODIFIED:20260224T010946Z
UID:10000067-1773475200-1773507600@cmw.chinmaya75.org
SUMMARY:Hanuman Chalisa Havan - CM Houston
DESCRIPTION:Come as one enthusiastic Chinmaya family for an auspicious offering of gratitude\, the 108 Samashti Sri Hanuman Chalisa Havan. Let us commemorate a thriving 75-year-old spiritual legacy\, the Chinmaya Movement that began with Pujya Gurudev Swami Chinmayananda’s first pravachan on December 23\, 1951 in Pune\, India. \n\n\n\nDetails & Sign-up: Click Here \n\n\n\nDeadline for Sign-up: Sunday\, March 1st
URL:https://cmw.chinmaya75.org/event/hanuman-chalisa-havan-cm-houston/
LOCATION:Chinmaya Prabha\, 10353 Synott Road\, Sugar Land\, TX\, 77498\, United States
CATEGORIES:Hanuman Chalisa Havan
ATTACH;FMTTYPE=image/jpeg:https://cmw.chinmaya75.org/wp-content/uploads/2026/01/11x17-Flyer-eb94f9885eae97bdc6a81a17134b6f3f-scaled.jpg
ORGANIZER;CN="Chinmaya Mission Houston":MAILTO:houston@chinmayamission.org
END:VEVENT
BEGIN:VEVENT
DTSTART;TZID=America/New_York:20260221T090000
DTEND;TZID=America/New_York:20260221T140000
DTSTAMP:20260421T052849
CREATED:20260107T222136Z
LAST-MODIFIED:20260129T164519Z
UID:10000040-1771664400-1771682400@cmw.chinmaya75.org
SUMMARY:Hanuman Chalisa Puja and Yagna - CM Littlerock
DESCRIPTION:An offering of devotion and strength\, the 108 Hanuman Chalisa Havan is a collective spiritual invocation seeking inner courage\, purity\, and divine grace. Through the sacred chanting of Hanuman Chalisa and the ritual of havan\, devotees across centers unite in reverence\, invoking the spirit of dynamic service and fearless faith embodied by Shri Hanuman. \n\n\n\n\n\n\nRegistration is required. Click here to register.
URL:https://cmw.chinmaya75.org/event/hanuman-chalisa-puja-and-yagna-cm-littlerock/
LOCATION:GSA Community Center\, 1 GSA Circle\, Little Rock\, Arkansas\, 72209
CATEGORIES:Hanuman Chalisa Havan
ATTACH;FMTTYPE=image/jpeg:https://cmw.chinmaya75.org/wp-content/uploads/2026/01/79a2e667-72e9-4916-a1ef-6303334f1598.jpeg
ORGANIZER;CN="Chinmaya Mission Little Rock":MAILTO:chinmayabalaviharlr@gmail.com
END:VEVENT
END:VCALENDAR